BEGIN:VCALENDAR
VERSION:2.0
PRODID:-//ChamberMaster//Event Calendar 2.0//EN
METHOD:PUBLISH
X-PUBLISHED-TTL:P3D
REFRESH-INTERVAL:P3D
CALSCALE:GREGORIAN
BEGIN:VEVENT
DTSTART:20200808T140000Z
DTEND:20200808T190000Z
X-MICROSOFT-CDO-ALLDAYEVENT:FALSE
SUMMARY:Brandon Farmer's Market
DESCRIPTION:Stop by and meet some local business owners and get locally grown produce and products at 515 N Splitrock Blvd!
X-ALT-DESC;FMTTYPE=text/html:Stop by and meet some local business owners and get locally grown produce and products at&nbsp\;515 N Splitrock Blvd!&nbsp\;
LOCATION:
UID:e.723.19192
SEQUENCE:3
DTSTAMP:20260424T095701Z
URL:https://members.brandonvalleychamber.com/events/details/brandon-farmer-s-market-08-08-2020-19192
END:VEVENT

END:VCALENDAR
