BEGIN:VCALENDAR
VERSION:2.0
PRODID:-//ChamberMaster//Event Calendar 2.0//EN
METHOD:PUBLISH
X-PUBLISHED-TTL:P3D
REFRESH-INTERVAL:P3D
CALSCALE:GREGORIAN
BEGIN:VEVENT
DTSTART;VALUE=DATE:20250612
DTEND;VALUE=DATE:20250613
TRANSP:TRANSPARENT
X-MICROSOFT-CDO-ALLDAYEVENT:TRUE
SUMMARY:BVA Beverage Battle
DESCRIPTION:The Brandon Valley Area Beverage Battle is BACK! \n\nJune 1st   30th\n\nThink your taste buds can handle the challenge?    \n\nSip\, savor\, and score your favorite specialty drinks from these amazing local spots:\n\n  A Homestead Brew   Best Day Ever\n\n  B&G Milkyway   Mocha Chip Avalanche\n\n  Bottoms Up   Electric Blue Long Island \n\n  Buddies & Co.   Coconut Paradise\n\n  CHUDS   Melon Mist Cocktail\n\n  Kingbird Coffee   You Are the Apple of My Chai\n\n  Scooter's Coffee   Peach Pie Red Bull Infusion\n\n  The Gruff   Cherry Nojito\n\n  V.F.W.   The Rusty Rifle\n\n  Try them all\n\n  Rate your favorites at [Brandon Valley Area Chamber website]\n\n  Help crown the 2025 Beverage Battle Champion!\n\nSupport local. Drink local. Pick your favorite!
X-ALT-DESC;FMTTYPE=text/html:<p data-end="202" data-start="122"><strong data-end="177" data-start="125">The Brandon Valley Area Beverage Battle is BACK!</strong>&nbsp\;<br data-end="185" data-start="182" />\n<span style="font-size:14px\;"><strong>June 1st &ndash\; 30th</strong></span></p>\n\n<p data-end="344" data-start="204">Think your taste buds can handle the challenge? &#127826\;&#127851\;&#9749\;<br data-end="260" data-start="257" />\nSip\, savor\, and score your favorite specialty drinks from these amazing local spots:</p>\n\n<p data-end="756" data-start="346">&#127866\; <strong data-end="369" data-start="349">A Homestead Brew</strong> &ndash\; <em data-end="387" data-start="372">Best Day Ever</em><br data-end="390" data-start="387" />\n&#127846\; <strong data-end="409" data-start="393">B&amp\;G Milkyway</strong> &ndash\; <em data-end="434" data-start="412">Mocha Chip Avalanche</em><br data-end="437" data-start="434" />\n&#127865\; <strong data-end="454" data-start="440">Bottoms Up</strong> &ndash\; <i>Electric Blue Long Island&nbsp\;</i><br data-end="487" data-is-only-node="" data-start="484" />\n&#129381\; <strong data-end="507" data-start="490">Buddies &amp\; Co.</strong> &ndash\; <em data-end="528" data-start="510">Coconut Paradise</em><br data-end="531" data-start="528" />\n&#127816\; <strong data-end="543" data-start="534">CHUDS</strong> &ndash\; <em data-end="567" data-start="546">Melon Mist Cocktail</em><br data-end="570" data-start="567" />\n&#127822\; <strong data-end="592" data-start="573">Kingbird Coffee</strong> &ndash\; <em data-end="625" data-start="595">You Are the Apple of My Chai</em><br data-end="628" data-start="625" />\n&#127825\; <strong data-end="651" data-start="631">Scooter&rsquo\;s Coffee</strong> &ndash\; <em data-end="683" data-start="654">Peach Pie Red Bull Infusion</em><br data-end="686" data-start="683" />\n&#127826\; <strong data-end="702" data-start="689">The Gruff</strong> &ndash\; <em data-end="720" data-start="705">Cherry Nojito</em><br data-end="723" data-start="720" />\n&#129347\; <strong data-end="736" data-start="726">V.F.W.</strong> &ndash\; <em data-end="756" data-start="739">The Rusty Rifle</em></p>\n\n<p data-end="889" data-start="758">&#9989\; Try them all<br data-end="775" data-start="772" />\n&#128187\; Rate your favorites at [Brandon Valley Area Chamber website]<br data-end="841" data-start="838" />\n&#127942\; Help crown the 2025 Beverage Battle Champion!</p>\n\n<p data-end="994" data-start="891">Support local. Drink local. Pick your favorite!</p>\n
LOCATION:
UID:e.723.23159
SEQUENCE:3
DTSTAMP:20260423T133511Z
URL:https://members.brandonvalleychamber.com/events/details/bva-beverage-battle-06-12-2025-23159
END:VEVENT

END:VCALENDAR
