BEGIN:VCALENDAR
VERSION:2.0
PRODID:-//ChamberMaster//Event Calendar 2.0//EN
METHOD:PUBLISH
X-PUBLISHED-TTL:P3D
REFRESH-INTERVAL:P3D
CALSCALE:GREGORIAN
BEGIN:VEVENT
DTSTART;VALUE=DATE:20250101
DTEND;VALUE=DATE:20250201
TRANSP:TRANSPARENT
X-MICROSOFT-CDO-ALLDAYEVENT:TRUE
SUMMARY:BVA Burger Battle
DESCRIPTION:The Brandon Valley Area Burger Battle is back! From January 1st- 31st\, stop by participating restaurants to try their special burgers\, then visit the Chamber website to rate them!
X-ALT-DESC;FMTTYPE=text/html:The Brandon Valley Area Burger Battle is back! From January 1st- 31st\, stop by participating restaurants to try their special burgers\, then visit the Chamber website to rate them!&nbsp\;
LOCATION:
UID:e.723.21909
SEQUENCE:3
DTSTAMP:20260423T153351Z
URL:https://members.brandonvalleychamber.com/events/details/bva-burger-battle-21909
END:VEVENT

END:VCALENDAR
