BEGIN:VCALENDAR
VERSION:2.0
PRODID:-//ChamberMaster//Event Calendar 2.0//EN
METHOD:PUBLISH
X-PUBLISHED-TTL:P3D
REFRESH-INTERVAL:P3D
CALSCALE:GREGORIAN
BEGIN:VEVENT
DTSTART:20210105T000000Z
DTEND:20210105T010000Z
X-MICROSOFT-CDO-ALLDAYEVENT:FALSE
SUMMARY:City Council Meeting
DESCRIPTION:
X-ALT-DESC;FMTTYPE=text/html:
LOCATION:304 Main Avenue. Brandon\, SD 57005
UID:e.723.13915
SEQUENCE:3
DTSTAMP:20260420T150710Z
URL:https://members.brandonvalleychamber.com/events/details/city-council-meeting-01-04-2021-13915
END:VEVENT

END:VCALENDAR
