BEGIN:VCALENDAR
VERSION:2.0
PRODID:-//ChamberMaster//Event Calendar 2.0//EN
METHOD:PUBLISH
X-PUBLISHED-TTL:P3D
REFRESH-INTERVAL:P3D
CALSCALE:GREGORIAN
BEGIN:VEVENT
DTSTART;VALUE=DATE:20260425
DTEND;VALUE=DATE:20260426
TRANSP:TRANSPARENT
X-MICROSOFT-CDO-ALLDAYEVENT:TRUE
SUMMARY:Southeast Area Track & Field Special Olympics Event
DESCRIPTION:Southeast Area Track & Field meet\n\n\n\nVolunteer Sign Up:https://dash.pointapp.org/events/629241
X-ALT-DESC;FMTTYPE=text/html:<span style="color: rgb(34\, 34\, 34)\; font-family: Arial\, Helvetica\, sans-serif\; font-size: small\;">Southeast Area Track &amp\; Field meet</span><br />\n<br />\nVolunteer Sign Up:<a attributionsrc="/privacy_sandbox/comet/register/source/?xt=AZYstWWQ11o__wtf3U4EZcp8NLbeKdGr9HxgyPB4pA6PdonXnEEbHqm7PxPXlNApPHICM-hQFbFgWQUR-Ev6xQhL-N_lEbuY2Ckap2mT7M1fUenBI87vDP026msFEP6TgK-LIiNWAh8qjH66nfDREwRN2lKgCYmnBo6K0E8haPbfMxMM4NaiSKL5eiicL_HZiybU1uAI6rwp2mFit8zI-hxD7mHJTAZWFI__zXH6RiWal0Oe2lyxxrE0NgSrntgR4kyxA6QvIHHbc4VPR7VHSQcbuZcuQquZPlGN7TqoRtWXc1cZ0Ksq0ajwJ6XFZ5GBzoxtd4Lw_YwWLhe9xNl-dj2vIvfUYrI9LXLVCIE8_1EUnl7y5N_3irPdfweZx7kBvszMJuchg0y-VpAL-3rOHFwDW9FYVlnfLVYSKumMnd0VOcvGRyOpLOJr2LoHNsR_SARCiJlhlQs0riZKsIwnM5twzw_Q1SdD_lCTkOHvUJolu6UaY8KyUHVYkF3RvdzTJiz7Hvp99cK3d38YeypNNdD-gDGlOaTfc7neYqj2VOX33EJmdTbItijfeluY2o_ogsFpwn4fGhXT0ighEXPJR_SCWfwPGFNea7pKTe2TMZqAzZvRg2YiEugW2EWH2abu2uyuGgvrdgLJn_IH1JkifXG97jgrSJtnBaJe1a29gAl0Jsiac3iJMMJvc_LZ-Y2xXbtLASzqxi4cyyqUAW2OGuY46GBjASIXkUvbFT2tvlhcO2kbpC_AHyOG0FFqnf2JCUd4Lq07sP-fDqxUqT08ah2GzRCqmYWbZQd8L9o0M5lRuV1eS8MWhYuepCj9Lve5KtG5Jg0c3YElOpy2hwwTVi7Wa3H_WhT63NN9ZQeW3Sl9gPazuX8k4L0tiLUahIXSCin7wmrOUW1Ms-74VI7doBouk45hYv146ONofqyvmc2tXT60sFBGPEupqlW8lBp_swZfnr-J8mpgEF7nShL3u1IZ73w52ahjCrqNPj2MNPPIKpLJwwoZkPzi_KtHejOhkpJnBGahSM2eNM7eYbxIP635WsWn0KUwV27L_Ht0tHJ_QiHWuuLfmDot29hRMLcNRiakh11gOFcg7wf2C6qWCo5Yo7vwjsJ7WCsEpE0RGg8lmbspRiVh4-G7NyoEPO-rK6cTzaIUgW1_GxhALpwkyllijNaJBRHR7tk-gYuizFoHVmJm29u6a50tVW6rqUvq0eDDIxV1J_WUOqaNONeQw0ZLUdrXDYFQNORrt-a4CCRQrrFLcAxy6dh_uumDMJhmexagac0rVZWDE0gSglhgBqPRhhKb2AzDuo3xXbkbHDvAuY3fPk9FfIaLXI5VU2ywiaGSVYmnuMUYH9SaT53-tZOLdnSOopBr8Y_b_aN5owOZiEFlPN1hLr51ZI17I7ohYt2y9kgHqVG7KkFG_Bbxmw86Rlfdn5SXy6Ti4MFFPlPhswVX_e5D6ddN2-69Q5Am-_Hamuaurdscy_1cwjI30G3FJBo5CJp5VyosOOv3Ln-FIJPZEbkjX_EGp68dzMNMSA0E06s6nmv1OVAOdmtsHwief9WblbPh4KLyauZK2T4JvJR9vHN2zCX77a3oI4RFxPGx-H-IfExXA5wR4_bjn_X6248WQsCPqOduhXu-flAy1oNjYXItdvQs5uNb2bZDByO_2QSYgn-BJOhFqv0t4JjIJYIis-KQhlA7sTAQ1PLTAygiuZSgjfsixGuCi9Ac9rXYU1JV5IzxRUivqX2DYd-oR0s1KVIy9_XLXYZz_0GWqAsoBBv_OJttVIPYvhKME1vR8QBe-wKixR1OCWQEKic930xXHkyB3FqvBG6ZebJCI3Y7oSkayJqeiDejYVDHeusTJ7OULZQ-KOCGDIXgzOnzCZbp32JWKDQkdJkuCSX2jd-tJG2qHDCKNGooybBhPFyjYQbtkP7Yf3_cnzE2mf37pYA3rsKO2m5afAfinj5fjT5RrbQZzysltJAGmj9L6FnRx302wX0mVyDGbahZO38cl1cwwQ56XcSyjnfxSifyydXovn75aHsAPeSBqCjRWbh7giDbyLI8oNasni2f3XW0Eoq5AN-M4SD5kicFjgCQZNrtGw_b5NYEH4XFNx__twX-dy7Cj0shqjOjwRPKPyblNDbrxtGtc4sRtrF0LuoIBJfSqhJIQWHlpUYo3IrY22kQ22gYvihazw0JdAHF9UiF8P_w6VYJ0YMsZwbqKOFAtyF_n67_W7Kzle5UWAbNB68s58IVUICxFE9CwBg9dfwIf7-6SrlsTbDJLUIjr6UEw38tnz3fTW81oaA5Fqn398d5c94WFMdgLh76cnmVWl42tI-6nnLnLb-05NSsADf3Vo5c4lWLB7egAjM9HGEj6OFu61V6Q8xCwo_D8XknKA13Wc1Bgpye8iBYcYypZcQ3K2aaaXbfykMsiWkUlDRa1ATAdFb5CU_ABcq0zjkXVyBr8_Krh_OzrsBJMYWfepdlv3N9WFFGio6Two2YzWijQ0fJlItsVFIYya9z2XXv5xLIEvC-04_HNH124BgsnmcfpK5vF1Z-VyC5VeymXaF28UMAT-VDHqMLwh_S__4w6hLwsifn862t6MBZ-O4MQ_0Y3dOfwxHjOoKPM9oNRz9aP9trTd9HVUIV85Ts3KKXDkC8xmEtoP-EIgOK6uUi2-3nGIjMuFew-DpsDZxTTwqLcjDwue1_6xFeN2V6xyGzgjxqTOXCfczlI39cRHkju_41xQ" class="x1i10hfl xjbqb8w x1ejq31n x18oe1m7 x1sy0etr xstzfhl x972fbf x10w94by x1qhh985 x14e42zd x9f619 x1ypdohk xt0psk2 x3ct3a4 xdj266r x14z9mp xat24cr x1lziwak xexx8yu xyri2b x18d9i69 x1c1uobl x16tdsg8 x1hl2dhg xggy1nq x1a2a7pz xkrqix3 x1sur9pj x1fey0fg x1s688f" href="https://dash.pointapp.org/events/629241?fbclid=IwZXh0bgNhZW0CMTAAYnJpZBExWVBJZUhwUU05Y3ZFVzRSMXNydGMGYXBwX2lkEDIyMjAzOTE3ODgyMDA4OTIAAR5jHmwEt8RkiBRMTA67muWYMX1POzTjqIe70orguyQ0gOVeVBOCjIQumKGl7A_aem_kUFxq3pmTK0HXehDa21FFA" rel="nofollow noreferrer" role="link" style="color: rgb(0\, 100\, 209)\; cursor: pointer\; text-decoration-line: none\; outline: none\; border-inline-width: 0px\; margin-inline: 0px\; border-inline-style: none\; padding-inline: 0px\; -webkit-tap-highlight-color: transparent\; font-weight: 600\; list-style-type: none\; box-sizing: border-box\; touch-action: manipulation\; display: inline\; padding-bottom: 0px\; border-top-style: none\; border-bottom-width: 0px\; border-bottom-style: none\; border-top-width: 0px\; margin-bottom: 0px\; margin-top: 0px\; padding-top: 0px\; font-family: &quot\;Segoe UI Historic&quot\;\, &quot\;Segoe UI&quot\;\, Helvetica\, Arial\, sans-serif\; font-size: 15px\; white-space-collapse: preserve\;" tabindex="0" target="_blank">https://dash.pointapp.org/events/629241</a>
LOCATION:Brandon High School Track
UID:e.723.23302
SEQUENCE:3
DTSTAMP:20260421T205601Z
URL:https://members.brandonvalleychamber.com/events/details/southeast-area-track-field-special-olympics-event-23302
END:VEVENT

END:VCALENDAR
