BEGIN:VCALENDAR
VERSION:2.0
PRODID:-//ChamberMaster//Event Calendar 2.0//EN
METHOD:PUBLISH
X-PUBLISHED-TTL:P3D
REFRESH-INTERVAL:P3D
CALSCALE:GREGORIAN
BEGIN:VEVENT
DTSTART:20200203T230000Z
DTEND:20200204T010000Z
X-MICROSOFT-CDO-ALLDAYEVENT:FALSE
SUMMARY:Wrestling vs SFR/SFW
DESCRIPTION:Wrestling vs Roosevelt & Washington
X-ALT-DESC;FMTTYPE=text/html:Wrestling vs Roosevelt &amp\; Washington
LOCATION:
UID:e.723.18738
SEQUENCE:3
DTSTAMP:20260423T032640Z
URL:https://members.brandonvalleychamber.com/events/details/wrestling-vs-sfr-sfw-18738
END:VEVENT

END:VCALENDAR
