BEGIN:VCALENDAR
VERSION:2.0
PRODID:-//ChamberMaster//Event Calendar 2.0//EN
METHOD:PUBLISH
X-PUBLISHED-TTL:P3D
REFRESH-INTERVAL:P3D
CALSCALE:GREGORIAN
BEGIN:VEVENT
DTSTART:20240711T163000Z
DTEND:20240711T180000Z
X-MICROSOFT-CDO-ALLDAYEVENT:FALSE
SUMMARY:Young at Heart Luncheon
DESCRIPTION:Risen Savior along with Spirit of Truth Lutheran welcome all senior citizens their luncheon. Entertainment begins at 11\;30AM and lunch will be served at noon. Call 605-582-6902 to RSVP.
X-ALT-DESC;FMTTYPE=text/html:Risen Savior along with Spirit of Truth Lutheran welcome all senior citizens their luncheon. Entertainment begins at 11\;30AM and lunch will be served at noon. Call 605-582-6902 to RSVP.
LOCATION:Risen Savior Catholic Church
UID:e.723.21572
SEQUENCE:3
DTSTAMP:20260420T084302Z
URL:https://members.brandonvalleychamber.com/events/details/young-at-heart-luncheon-07-11-2024-21572
END:VEVENT

END:VCALENDAR
